BEGIN:VCALENDAR
VERSION:2.0
PRODID:-//Studienkreis Deutscher Widerstand 1933–1945 - ECPv6.15.20//NONSGML v1.0//EN
CALSCALE:GREGORIAN
METHOD:PUBLISH
X-ORIGINAL-URL:http://widerstand-1933-1945.de
X-WR-CALDESC:Veranstaltungen für Studienkreis Deutscher Widerstand 1933–1945
REFRESH-INTERVAL;VALUE=DURATION:PT1H
X-Robots-Tag:noindex
X-PUBLISHED-TTL:PT1H
BEGIN:VTIMEZONE
TZID:Europe/Helsinki
BEGIN:DAYLIGHT
TZOFFSETFROM:+0200
TZOFFSETTO:+0300
TZNAME:EEST
DTSTART:20250330T010000
END:DAYLIGHT
BEGIN:STANDARD
TZOFFSETFROM:+0300
TZOFFSETTO:+0200
TZNAME:EET
DTSTART:20251026T010000
END:STANDARD
BEGIN:DAYLIGHT
TZOFFSETFROM:+0200
TZOFFSETTO:+0300
TZNAME:EEST
DTSTART:20260329T010000
END:DAYLIGHT
BEGIN:STANDARD
TZOFFSETFROM:+0300
TZOFFSETTO:+0200
TZNAME:EET
DTSTART:20261025T010000
END:STANDARD
BEGIN:DAYLIGHT
TZOFFSETFROM:+0200
TZOFFSETTO:+0300
TZNAME:EEST
DTSTART:20270328T010000
END:DAYLIGHT
BEGIN:STANDARD
TZOFFSETFROM:+0300
TZOFFSETTO:+0200
TZNAME:EET
DTSTART:20271031T010000
END:STANDARD
END:VTIMEZONE
BEGIN:VEVENT
DTSTART;VALUE=DATE:20260123
DTEND;VALUE=DATE:20260218
DTSTAMP:20260422T135603
CREATED:20260127T095607Z
LAST-MODIFIED:20260127T101018Z
UID:2735-1769126400-1771372799@widerstand-1933-1945.de
SUMMARY:23.01.2026 - 17.02.2026
DESCRIPTION:An­hand ein­drück­li­cher Bei­spie­le der Zi­vil­cou­ra­ge be­leuch­tet die Aus­stel­lung\, wie Ver­folg­te des NS-Re­gimes durch den Mut ei­ni­ger we­ni­ger Mit­men­schen ge­ret­tet wer­den konn­ten. Sie ver­steck­ten Flüch­ten­de\, or­ga­ni­sier­ten Aus­wei­se und Le­bens­mit­tel­kar­ten oder plan­ten Flucht­we­ge. Heinz Wel­ke\, Fritz und Mar­ga­re­te Kahl in Bo­cken­heim ge­hör­ten zu den­je­ni­gen\, die Wi­der­stand ge­gen den NS-Ter­ror leisteten.\nKu­ra­tiert wur­de die Aus­stel­lung von der So­zio­lo­gin und Au­torin Pe­tra Bo­na­vi­ta. Zur Er­öff­nung wird sie ei­ne Ein­füh­rung in die Aus­stel­lung geben. \nWo?\nDon­dorf-Dru­cke­rei\, 2.OG\, Ga­bri­el-Ries­ser-Weg 3\, Frank­furt am Main\nWann?\nAus­stel­lungs­er­öff­nung: Frei­tag\, 23. Ja­nu­ar\, 17 Uhr\nAus­stel­lungs­zeit­raum: 23. Ja­nu­ar - 17. Februar\nÖff­nungs­zei­ten: Diens­tag - Frei­tag\, 10 - 17 Uhr \nFüh­run­gen: Mitt­wochs\, 10 - 17 Uhr\, und nach Ver­ein­ba­rung per E-Mail an hartwig-​thuermer@​widerstand-​1933-​1945.​de oder te­le­fo­nisch un­ter 0170/1894607.
URL:http://widerstand-1933-1945.de/veranstaltungen/23-01-2026-17-02-2026/
LOCATION:Don­dorf Druckerei\, Gabriel-Riesser-Weg 3\, Frankfurt am Main\, Hessen\, 60325
CATEGORIES:Ausstellung
ATTACH;FMTTYPE=image/png:http://widerstand-1933-1945.de/wp-content/uploads/2026/01/Homepage1.png
END:VEVENT
END:VCALENDAR