BEGIN:VCALENDAR
VERSION:2.0
PRODID:-//Studienkreis Deutscher Widerstand 1933–1945 - ECPv6.15.20//NONSGML v1.0//EN
CALSCALE:GREGORIAN
METHOD:PUBLISH
X-WR-CALNAME:Studienkreis Deutscher Widerstand 1933–1945
X-ORIGINAL-URL:https://widerstand-1933-1945.de
X-WR-CALDESC:Veranstaltungen für Studienkreis Deutscher Widerstand 1933–1945
REFRESH-INTERVAL;VALUE=DURATION:PT1H
X-Robots-Tag:noindex
X-PUBLISHED-TTL:PT1H
BEGIN:VTIMEZONE
TZID:Europe/Helsinki
BEGIN:DAYLIGHT
TZOFFSETFROM:+0200
TZOFFSETTO:+0300
TZNAME:EEST
DTSTART:20250330T010000
END:DAYLIGHT
BEGIN:STANDARD
TZOFFSETFROM:+0300
TZOFFSETTO:+0200
TZNAME:EET
DTSTART:20251026T010000
END:STANDARD
BEGIN:DAYLIGHT
TZOFFSETFROM:+0200
TZOFFSETTO:+0300
TZNAME:EEST
DTSTART:20260329T010000
END:DAYLIGHT
BEGIN:STANDARD
TZOFFSETFROM:+0300
TZOFFSETTO:+0200
TZNAME:EET
DTSTART:20261025T010000
END:STANDARD
BEGIN:DAYLIGHT
TZOFFSETFROM:+0200
TZOFFSETTO:+0300
TZNAME:EEST
DTSTART:20270328T010000
END:DAYLIGHT
BEGIN:STANDARD
TZOFFSETFROM:+0300
TZOFFSETTO:+0200
TZNAME:EET
DTSTART:20271031T010000
END:STANDARD
END:VTIMEZONE
BEGIN:VEVENT
DTSTART;VALUE=DATE:20260302
DTEND;VALUE=DATE:20260331
DTSTAMP:20260425T160004
CREATED:20260219T113304Z
LAST-MODIFIED:20260225T135506Z
UID:2773-1772409600-1774915199@widerstand-1933-1945.de
SUMMARY:02. März - 27. März 2026
DESCRIPTION:Aus­stel­lung „Nichts war ver­geb­lich – Frau­en im Wi­der­stand ge­gen den Nationalsozialismus“ \nAm 8. März\, dem In­ter­na­tio­na­len Frau­en­tag\, wird welt­weit an die Be­nach­tei­li­gung von Frau­en\, ih­re For­de­run­gen aber auch an ih­re Er­fol­ge und Bei­trä­ge zu ei­ner bes­se­ren und fried­li­che­ren Welt erinnert. \nDie Aus­stel­lung “Nichts war ver­geb­lich - Frau­en im Wi­der­stand ge­gen den Na­tio­nal­so­zia­lis­mus” des Stu­di­en­krei­ses Deut­scher Wi­der­stand 1933-1945  be­schäf­tigt sich mit dem viel­fäl­ti­gen Wi­der­stand von Frau­en ge­gen den Na­tio­nal­so­zia­lis­mus vor und nach der Macht­über­tra­gung an Hit­ler 1933. \nDie Aus­stel­lung räumt mit der Vor­stel­lung auf\, daß die Frau­en nur ei­ne ne­ben­säch­li­che\, die­nen­de Rol­le ge­spielt hät­ten­und die Män­ner die wich­ti­gen Wi­der­stands­kämp­fer wa­ren. Die Ak­ti­vi­tä­ten von Frau­en sind bis­her zu we­nig im Be­wußt­sein der Öf­fent­lich­keit verankert. \nGe­zeigt wer­den 18 Bio­gra­fien von Frau­en\, die sich in viel­fäl­ti­ger Wei­se ge­gen das Na­zi­re­gime auf­ge­lehnt ha­ben – wi­der­stän­dig wa­ren. Ein er­wei­ter­ter Wi­der­stands­be­griff - Wi­der­stän­dig­keit - er­mög­licht\, die Brei­te von weib­li­chem En­ga­ge­ment in den Blick zu neh­men. Er­zählt wer­den Ge­schich­ten von Frau­en\, die mu­tig und ei­gen­stän­dig han­del­ten oder sich ge­gen Zu­mu­tun­gen des dik­ta­to­ri­schen Sys­tems wehr­ten. Ei­ni­ge Frau­en sind be­kannt\, wie bei­spiels­wei­se die Au­torin Eri­ka Mann oder die Kriegs­fo­to­gra­fin Ger­da Ta­ro\, an­de­re Frau­en aber in der öf­fent­li­chen Wahr­neh­mung kaum präsent. \nGe­zeigt wer­den auch Fo­tos von Ge­gen­stän­den\, die von Frau­en im Zucht­haus oder Kon­zen­tra­ti­ons­la­ger ge­fer­tigt wur­den und die do­ku­men­tie­ren\, dass auch dort der Wi­der­stands­wil­le der Frau­en nicht ge­bro­chen wer­den konnte. \n\nOrt: IGM-Vor­stand\, Wil­helm-Leu­sch­ner-Str. 79\, 60329 Frank­furt\, Konferenzebene \nÖff­nungs­zei­ten für Besucher:innen: Mon­tag - Frei­tag\, 9 – 16:30 Uhr. \nAm Mon­tag\, 23. Mär­zund Diens­tag\, 24. Mär­zist ein Be­such der Aus­stel­lung nicht möglich. \nDer Ein­tritt ist frei. Um vor­he­ri­ge An­mel­dung un­ter thomas.​koelsch@​igmetall.​de wird gebeten. \n(ei­ne Be­sich­ti­gung oh­ne vor­he­ri­ge An­mel­dung ist lei­der nicht möglich) \nFly­er
URL:https://widerstand-1933-1945.de/veranstaltungen/02-maerz-30-maerz-2026/
LOCATION:IG Me­tall Metallgalerie\, Wilhelm-Leuschner Straße 79\, Frankfurt am Main\, Hessen\, 60329\, Germany
CATEGORIES:Ausstellung
ATTACH;FMTTYPE=image/png:https://widerstand-1933-1945.de/wp-content/uploads/2025/07/FRAUEN.png
END:VEVENT
END:VCALENDAR