BEGIN:VCALENDAR
VERSION:2.0
PRODID:-//Studienkreis Deutscher Widerstand 1933–1945 - ECPv6.15.20//NONSGML v1.0//EN
CALSCALE:GREGORIAN
METHOD:PUBLISH
X-WR-CALNAME:Studienkreis Deutscher Widerstand 1933–1945
X-ORIGINAL-URL:https://widerstand-1933-1945.de
X-WR-CALDESC:Veranstaltungen für Studienkreis Deutscher Widerstand 1933–1945
REFRESH-INTERVAL;VALUE=DURATION:PT1H
X-Robots-Tag:noindex
X-PUBLISHED-TTL:PT1H
BEGIN:VTIMEZONE
TZID:Europe/Helsinki
BEGIN:DAYLIGHT
TZOFFSETFROM:+0200
TZOFFSETTO:+0300
TZNAME:EEST
DTSTART:20240331T010000
END:DAYLIGHT
BEGIN:STANDARD
TZOFFSETFROM:+0300
TZOFFSETTO:+0200
TZNAME:EET
DTSTART:20241027T010000
END:STANDARD
BEGIN:DAYLIGHT
TZOFFSETFROM:+0200
TZOFFSETTO:+0300
TZNAME:EEST
DTSTART:20250330T010000
END:DAYLIGHT
BEGIN:STANDARD
TZOFFSETFROM:+0300
TZOFFSETTO:+0200
TZNAME:EET
DTSTART:20251026T010000
END:STANDARD
BEGIN:DAYLIGHT
TZOFFSETFROM:+0200
TZOFFSETTO:+0300
TZNAME:EEST
DTSTART:20260329T010000
END:DAYLIGHT
BEGIN:STANDARD
TZOFFSETFROM:+0300
TZOFFSETTO:+0200
TZNAME:EET
DTSTART:20261025T010000
END:STANDARD
END:VTIMEZONE
BEGIN:VEVENT
DTSTART;VALUE=DATE:20251106
DTEND;VALUE=DATE:20251216
DTSTAMP:20260425T212742
CREATED:20250825T084152Z
LAST-MODIFIED:20251113T222640Z
UID:2516-1762387200-1765843199@widerstand-1933-1945.de
SUMMARY:06.11.2025 - 12.12.2025
DESCRIPTION:FRANK­FURT / IG METALL\n\n\n\nDie  Aus­stel­lung er­in­nert auf 15 Ta­feln an das Schick­sal der et­wa 11.000 nach The­re­si­en­stadt de­por­tier­ten Kin­der. Sie ka­men aus den jü­di­schen Ge­mein­den in Böh­men und Mäh­ren\, aus Deutsch­land\, Ös­ter­reich\, den Nie­der­lan­den\, Po­len und Dä­ne­mark; die meis­ten wur­den in Ausch­witz ermordet.\nIm Mit­tel­punkt der Aus­stel­lung ste­hen die in The­re­si­en­stadt an­ge­fer­tig­ten Kin­der­zeich­nun­gen\, Ge­dich­te und Aus­sa­gen von Kin­dern über ihr Le­ben im KZ. Zwei Ta­feln be­schäf­ti­gen sich mit den Or­ten The­re­si­en­stadt und Ausch­witz. Elf Ta­feln sind mit ori­gi­nal­ge­treu­en Re­pro­duk­tio­nen von Zeich­nun­gen\, Ge­dich­ten und Tex­ten von Über­le­ben­den ge­stal­tet. Die letz­te Ta­fel ist dem Ge­den­ken al­ler Kin­der\, die The­re­si­en­stadt er­lei­den muss­ten\, ge­wid­met: “Sie ka­men auch aus un­se­rer Nach­bar­schaft.” Zu­min­dest die aus Deutsch­land de­por­tier­ten und er­mor­de­ten Kin­der wer­den hier mit ih­ren Na­men\, Le­bens­da­ten und den Or­ten\, aus de­nen sie ab­trans­por­tiert wur­den\, genannt. \nvom 6.11. – 12.12.2025 \nOrt: IGM-Vor­stand\, Wil­helm-Leu­sch­ner-Str. 79\, 60329 Frank­furt\, Konferenzebene \nÖff­nungs­zei­ten für Besucher:innen: Mon­tag - Frei­tag\, 9 – 17 Uhr. \nAn­mel­dun­gen bit­te un­ter Thomas.​Koelsch@​igmetall.​de oder 01511 1598146 \n(ei­ne Be­sich­ti­gung oh­ne vor­he­ri­ge An­mel­dung ist lei­der nicht möglich)
URL:https://widerstand-1933-1945.de/veranstaltungen/03-11-2025-13-12-2025/
LOCATION:IG Me­tall Metallgalerie\, Wilhelm-Leuschner Straße 79\, Frankfurt am Main\, Hessen\, 60329\, Germany
CATEGORIES:Ausstellung
ATTACH;FMTTYPE=image/png:https://widerstand-1933-1945.de/wp-content/uploads/2025/08/Kinder1.png
END:VEVENT
END:VCALENDAR